Package: sesame Version: 1.24.0 Command: /Library/Frameworks/R.framework/Resources/bin/R CMD build --keep-empty-dirs --no-resave-data sesame StartedAt: 2025-01-31 07:58:16 -0500 (Fri, 31 Jan 2025) EndedAt: 2025-01-31 08:05:21 -0500 (Fri, 31 Jan 2025) EllapsedTime: 424.3 seconds RetCode: 0 Status: OK PackageFile: sesame_1.24.0.tar.gz PackageFileSize: 19.61 MiB