Package: sesame Version: 1.24.0 Command: /home/biocbuild/bbs-3.20-bioc/R/bin/R CMD INSTALL sesame StartedAt: 2025-01-30 15:20:58 -0500 (Thu, 30 Jan 2025) EndedAt: 2025-01-30 15:21:33 -0500 (Thu, 30 Jan 2025) EllapsedTime: 34.5 seconds RetCode: 0 Status: OK