Package: sesame Version: 1.24.0 Command: chmod a+r sesame -R && F:\biocbuild\bbs-3.20-bioc\R\bin\R.exe CMD build --keep-empty-dirs --no-resave-data sesame StartedAt: 2025-01-30 21:50:39 -0500 (Thu, 30 Jan 2025) EndedAt: 2025-01-30 21:58:54 -0500 (Thu, 30 Jan 2025) EllapsedTime: 494.2 seconds RetCode: 0 Status: OK PackageFile: sesame_1.24.0.tar.gz PackageFileSize: 19.15 MiB