Package: sesame Version: 1.24.0 Command: /home/biocbuild/R/R/bin/R CMD build --keep-empty-dirs --no-resave-data sesame StartedAt: 2025-01-31 02:41:43 -0000 (Fri, 31 Jan 2025) EndedAt: 2025-01-31 02:48:46 -0000 (Fri, 31 Jan 2025) EllapsedTime: 423.5 seconds RetCode: 0 Status: OK PackageFile: sesame_1.24.0.tar.gz PackageFileSize: 20.16 MiB