Package: sesame Version: 1.24.0 Command: /home/biocbuild/R/R/bin/R CMD INSTALL sesame StartedAt: 2025-01-30 20:25:30 -0000 (Thu, 30 Jan 2025) EndedAt: 2025-01-30 20:26:16 -0000 (Thu, 30 Jan 2025) EllapsedTime: 46.5 seconds RetCode: 0 Status: OK