Package: sevenC
Version: 1.26.0
Command: rm -rf sevenC.buildbin-libdir && mkdir sevenC.buildbin-libdir && /Users/biocbuild/BBS/utils/build-universal.sh sevenC_1.26.0.tar.gz /Library/Frameworks/R.framework/Resources/bin/R sevenC.buildbin-libdir
StartedAt: 2025-02-19 17:07:25 -0500 (Wed, 19 Feb 2025)
EndedAt: 2025-02-19 17:07:54 -0500 (Wed, 19 Feb 2025)
EllapsedTime: 29.6 seconds
RetCode: 0
Status: OK
PackageFile: sevenC_1.26.0.tgz
PackageFileSize: 2.042 <A href="http://en.wikipedia.org/wiki/MiB" target="_blank">MiB</A>