Package: sevenC Version: 1.26.0 Command: /Library/Frameworks/R.framework/Resources/bin/R CMD build --keep-empty-dirs --no-resave-data sevenC StartedAt: 2025-02-03 22:19:01 -0500 (Mon, 03 Feb 2025) EndedAt: 2025-02-03 22:22:09 -0500 (Mon, 03 Feb 2025) EllapsedTime: 188.6 seconds RetCode: 0 Status: OK PackageFile: sevenC_1.26.0.tar.gz PackageFileSize: 1.932 MiB