Package: sevenC Version: 1.26.0 Command: /home/biocbuild/R/R/bin/R CMD build --keep-empty-dirs --no-resave-data sevenC StartedAt: 2025-02-04 02:58:30 -0000 (Tue, 04 Feb 2025) EndedAt: 2025-02-04 03:00:13 -0000 (Tue, 04 Feb 2025) EllapsedTime: 103.2 seconds RetCode: 0 Status: OK PackageFile: sevenC_1.26.0.tar.gz PackageFileSize: 1.993 MiB