Package: sevenbridges Version: 1.36.0 Command: chmod a+r sevenbridges -R && F:\biocbuild\bbs-3.20-bioc\R\bin\R.exe CMD build --keep-empty-dirs --no-resave-data sevenbridges StartedAt: 2025-02-03 22:07:36 -0500 (Mon, 03 Feb 2025) EndedAt: 2025-02-03 22:13:16 -0500 (Mon, 03 Feb 2025) EllapsedTime: 340.6 seconds RetCode: 0 Status: OK PackageFile: sevenbridges_1.36.0.tar.gz PackageFileSize: 4.659 MiB