Package: sevenbridges Version: 1.36.0 Command: F:\biocbuild\bbs-3.20-bioc\R\bin\R.exe CMD INSTALL sevenbridges StartedAt: 2025-02-03 15:42:08 -0500 (Mon, 03 Feb 2025) EndedAt: 2025-02-03 15:46:41 -0500 (Mon, 03 Feb 2025) EllapsedTime: 272.3 seconds RetCode: 0 Status: OK