Package: shiny.gosling Version: 1.2.0 Command: /Library/Frameworks/R.framework/Resources/bin/R CMD INSTALL shiny.gosling StartedAt: 2025-02-03 16:36:26 -0500 (Mon, 03 Feb 2025) EndedAt: 2025-02-03 16:36:30 -0500 (Mon, 03 Feb 2025) EllapsedTime: 4.4 seconds RetCode: 0 Status: OK