Package: shiny.gosling Version: 1.2.0 Command: /Library/Frameworks/R.framework/Resources/bin/R CMD INSTALL shiny.gosling StartedAt: 2025-02-03 16:02:41 -0500 (Mon, 03 Feb 2025) EndedAt: 2025-02-03 16:02:53 -0500 (Mon, 03 Feb 2025) EllapsedTime: 11.0 seconds RetCode: 0 Status: OK