Package: shiny.gosling Version: 1.2.0 Command: rm -rf shiny.gosling.buildbin-libdir && mkdir shiny.gosling.buildbin-libdir && F:\biocbuild\bbs-3.20-bioc\R\bin\R.exe CMD INSTALL --build --library=shiny.gosling.buildbin-libdir shiny.gosling_1.2.0.tar.gz StartedAt: 2025-02-04 09:31:08 -0500 (Tue, 04 Feb 2025) EndedAt: 2025-02-04 09:33:15 -0500 (Tue, 04 Feb 2025) EllapsedTime: 127.0 seconds RetCode: 0 Status: OK PackageFile: shiny.gosling_1.2.0.zip PackageFileSize: 1.108 MiB