Package: shiny.gosling Version: 1.2.0 Command: chmod a+r shiny.gosling -R && F:\biocbuild\bbs-3.20-bioc\R\bin\R.exe CMD build --keep-empty-dirs --no-resave-data shiny.gosling StartedAt: 2025-02-03 22:08:19 -0500 (Mon, 03 Feb 2025) EndedAt: 2025-02-03 22:09:43 -0500 (Mon, 03 Feb 2025) EllapsedTime: 83.6 seconds RetCode: 0 Status: OK PackageFile: shiny.gosling_1.2.0.tar.gz PackageFileSize: 1.716 MiB