Package: shiny.gosling Version: 1.2.0 Command: /home/biocbuild/R/R/bin/R CMD INSTALL shiny.gosling StartedAt: 2025-02-17 20:50:48 -0000 (Mon, 17 Feb 2025) EndedAt: 2025-02-17 20:50:53 -0000 (Mon, 17 Feb 2025) EllapsedTime: 5.0 seconds RetCode: 0 Status: OK