Package: shinyMethyl Version: 1.42.0 Command: /Library/Frameworks/R.framework/Resources/bin/R CMD check --install=check:shinyMethyl.install-out.txt --library=/Library/Frameworks/R.framework/Resources/library --no-vignettes --timings shinyMethyl_1.42.0.tar.gz StartedAt: 2025-02-05 10:07:40 -0500 (Wed, 05 Feb 2025) EndedAt: 2025-02-05 10:14:30 -0500 (Wed, 05 Feb 2025) EllapsedTime: 410.1 seconds RetCode: 0 Status: OK CheckDir: shinyMethyl.Rcheck Warnings: 0