Package: shinyMethyl Version: 1.42.0 Command: /Library/Frameworks/R.framework/Resources/bin/R CMD INSTALL shinyMethyl StartedAt: 2025-02-03 16:43:53 -0500 (Mon, 03 Feb 2025) EndedAt: 2025-02-03 16:45:29 -0500 (Mon, 03 Feb 2025) EllapsedTime: 95.6 seconds RetCode: 0 Status: OK