Package: shinyMethyl Version: 1.42.0 Command: rm -rf shinyMethyl.buildbin-libdir && mkdir shinyMethyl.buildbin-libdir && F:\biocbuild\bbs-3.20-bioc\R\bin\R.exe CMD INSTALL --build --library=shinyMethyl.buildbin-libdir shinyMethyl_1.42.0.tar.gz StartedAt: 2025-02-04 09:31:17 -0500 (Tue, 04 Feb 2025) EndedAt: 2025-02-04 09:32:48 -0500 (Tue, 04 Feb 2025) EllapsedTime: 91.4 seconds RetCode: 0 Status: OK PackageFile: shinyMethyl_1.42.0.zip PackageFileSize: 2.428 MiB