Package: shinyMethyl Version: 1.42.0 Command: /home/biocbuild/R/R/bin/R CMD INSTALL shinyMethyl StartedAt: 2025-02-03 21:20:15 -0000 (Mon, 03 Feb 2025) EndedAt: 2025-02-03 21:21:12 -0000 (Mon, 03 Feb 2025) EllapsedTime: 57.1 seconds RetCode: 0 Status: OK