Package: shinyepico Version: 1.14.0 Command: /Library/Frameworks/R.framework/Resources/bin/R CMD build --keep-empty-dirs --no-resave-data shinyepico StartedAt: 2025-02-04 08:12:43 -0500 (Tue, 04 Feb 2025) EndedAt: 2025-02-04 08:12:57 -0500 (Tue, 04 Feb 2025) EllapsedTime: 13.8 seconds RetCode: 0 Status: OK PackageFile: shinyepico_1.14.0.tar.gz PackageFileSize: 2.248 MiB