Package: shinyepico
Version: 1.14.0
Command: /Library/Frameworks/R.framework/Resources/bin/R CMD build --keep-empty-dirs --no-resave-data shinyepico
StartedAt: 2024-11-19 18:41:07 -0500 (Tue, 19 Nov 2024)
EndedAt: 2024-11-19 18:41:22 -0500 (Tue, 19 Nov 2024)
EllapsedTime: 14.6 seconds
RetCode: 0
Status: OK
PackageFile: shinyepico_1.14.0.tar.gz
PackageFileSize: 2.248 <A href="http://en.wikipedia.org/wiki/MiB" target="_blank">MiB</A>