Package: shinyepico Version: 1.14.0 Command: rm -rf shinyepico.buildbin-libdir && mkdir shinyepico.buildbin-libdir && /Users/biocbuild/BBS/utils/build-universal.sh shinyepico_1.14.0.tar.gz /Library/Frameworks/R.framework/Resources/bin/R shinyepico.buildbin-libdir StartedAt: 2025-01-31 13:42:31 -0500 (Fri, 31 Jan 2025) EndedAt: 2025-01-31 13:42:45 -0500 (Fri, 31 Jan 2025) EllapsedTime: 13.5 seconds RetCode: 0 Status: OK PackageFile: shinyepico_1.14.0.tgz PackageFileSize: 1.47 MiB