Package: shinyepico Version: 1.14.0 Command: /Library/Frameworks/R.framework/Resources/bin/R CMD build --keep-empty-dirs --no-resave-data shinyepico StartedAt: 2025-02-03 22:20:14 -0500 (Mon, 03 Feb 2025) EndedAt: 2025-02-03 22:20:37 -0500 (Mon, 03 Feb 2025) EllapsedTime: 22.9 seconds RetCode: 0 Status: OK PackageFile: shinyepico_1.14.0.tar.gz PackageFileSize: 2.248 MiB