Package: shinyepico Version: 1.14.0 Command: /Library/Frameworks/R.framework/Resources/bin/R CMD check --install=check:shinyepico.install-out.txt --library=/Library/Frameworks/R.framework/Resources/library --no-vignettes --timings shinyepico_1.14.0.tar.gz StartedAt: 2025-02-04 10:08:11 -0500 (Tue, 04 Feb 2025) EndedAt: 2025-02-04 10:14:17 -0500 (Tue, 04 Feb 2025) EllapsedTime: 366.0 seconds RetCode: 0 Status: OK CheckDir: shinyepico.Rcheck Warnings: 0