Package: shinyepico Version: 1.14.0 Command: chmod a+r shinyepico -R && F:\biocbuild\bbs-3.20-bioc\R\bin\R.exe CMD build --keep-empty-dirs --no-resave-data shinyepico StartedAt: 2025-02-03 22:08:38 -0500 (Mon, 03 Feb 2025) EndedAt: 2025-02-03 22:09:03 -0500 (Mon, 03 Feb 2025) EllapsedTime: 25.0 seconds RetCode: 0 Status: OK PackageFile: shinyepico_1.14.0.tar.gz PackageFileSize: 2.247 MiB