Package: shinyepico Version: 1.14.0 Command: /home/biocbuild/R/R/bin/R CMD build --keep-empty-dirs --no-resave-data shinyepico StartedAt: 2025-02-04 02:59:06 -0000 (Tue, 04 Feb 2025) EndedAt: 2025-02-04 02:59:22 -0000 (Tue, 04 Feb 2025) EllapsedTime: 16.0 seconds RetCode: 0 Status: OK PackageFile: shinyepico_1.14.0.tar.gz PackageFileSize: 2.31 MiB