Package: sigFeature
Version: 1.24.0
Command: /Library/Frameworks/R.framework/Resources/bin/R CMD check --install=check:sigFeature.install-out.txt --library=/Library/Frameworks/R.framework/Resources/library --no-vignettes --timings sigFeature_1.24.0.tar.gz
StartedAt: 2024-11-09 13:22:14 -0500 (Sat, 09 Nov 2024)
EndedAt: 2024-11-09 13:27:05 -0500 (Sat, 09 Nov 2024)
EllapsedTime: 290.9 seconds
RetCode: 0
Status: WARNINGS
CheckDir: sigFeature.Rcheck
Warnings: 1