Package: sigFeature Version: 1.24.0 Command: chmod a+r sigFeature -R && F:\biocbuild\bbs-3.20-bioc\R\bin\R.exe CMD build --keep-empty-dirs --no-resave-data sigFeature StartedAt: 2025-02-03 22:09:22 -0500 (Mon, 03 Feb 2025) EndedAt: 2025-02-03 22:10:23 -0500 (Mon, 03 Feb 2025) EllapsedTime: 60.5 seconds RetCode: 0 Status: OK PackageFile: sigFeature_1.24.0.tar.gz PackageFileSize: 263.9 KiB