Package: sigFeature Version: 1.24.0 Command: /home/biocbuild/R/R/bin/R CMD build --keep-empty-dirs --no-resave-data sigFeature StartedAt: 2025-02-04 02:59:54 -0000 (Tue, 04 Feb 2025) EndedAt: 2025-02-04 03:00:50 -0000 (Tue, 04 Feb 2025) EllapsedTime: 56.1 seconds RetCode: 0 Status: OK PackageFile: sigFeature_1.24.0.tar.gz PackageFileSize: 276.8 KiB