Package: sigFeature Version: 1.24.0 Command: /home/biocbuild/R/R/bin/R CMD INSTALL sigFeature StartedAt: 2025-02-03 21:19:06 -0000 (Mon, 03 Feb 2025) EndedAt: 2025-02-03 21:19:37 -0000 (Mon, 03 Feb 2025) EllapsedTime: 31.3 seconds RetCode: 0 Status: OK