Package: siggenes Version: 1.80.0 Command: /Library/Frameworks/R.framework/Resources/bin/R CMD build --keep-empty-dirs --no-resave-data siggenes StartedAt: 2025-02-04 08:16:18 -0500 (Tue, 04 Feb 2025) EndedAt: 2025-02-04 08:16:55 -0500 (Tue, 04 Feb 2025) EllapsedTime: 37.5 seconds RetCode: 0 Status: OK PackageFile: siggenes_1.80.0.tar.gz PackageFileSize: 744.8 KiB