Package: siggenes Version: 1.80.0 Command: /Library/Frameworks/R.framework/Resources/bin/R CMD check --install=check:siggenes.install-out.txt --library=/Library/Frameworks/R.framework/Resources/library --no-vignettes --timings siggenes_1.80.0.tar.gz StartedAt: 2024-11-20 02:41:01 -0500 (Wed, 20 Nov 2024) EndedAt: 2024-11-20 02:45:45 -0500 (Wed, 20 Nov 2024) EllapsedTime: 283.6 seconds RetCode: 0 Status: OK CheckDir: siggenes.Rcheck Warnings: 0