Package: siggenes Version: 1.80.0 Command: rm -rf siggenes.buildbin-libdir && mkdir siggenes.buildbin-libdir && /Users/biocbuild/BBS/utils/build-universal.sh siggenes_1.80.0.tar.gz /Library/Frameworks/R.framework/Resources/bin/R siggenes.buildbin-libdir StartedAt: 2025-01-31 13:42:52 -0500 (Fri, 31 Jan 2025) EndedAt: 2025-01-31 13:43:22 -0500 (Fri, 31 Jan 2025) EllapsedTime: 30.0 seconds RetCode: 0 Status: OK PackageFile: siggenes_1.80.0.tgz PackageFileSize: 1.222 MiB