Package: siggenes Version: 1.80.0 Command: /Library/Frameworks/R.framework/Resources/bin/R CMD build --keep-empty-dirs --no-resave-data siggenes StartedAt: 2025-02-03 22:21:24 -0500 (Mon, 03 Feb 2025) EndedAt: 2025-02-03 22:22:27 -0500 (Mon, 03 Feb 2025) EllapsedTime: 63.0 seconds RetCode: 0 Status: OK PackageFile: siggenes_1.80.0.tar.gz PackageFileSize: 744.8 KiB