Package: siggenes Version: 1.80.0 Command: /Library/Frameworks/R.framework/Resources/bin/R CMD check --install=check:siggenes.install-out.txt --library=/Library/Frameworks/R.framework/Resources/library --no-vignettes --timings siggenes_1.80.0.tar.gz StartedAt: 2025-02-04 10:10:29 -0500 (Tue, 04 Feb 2025) EndedAt: 2025-02-04 10:13:00 -0500 (Tue, 04 Feb 2025) EllapsedTime: 151.0 seconds RetCode: 0 Status: OK CheckDir: siggenes.Rcheck Warnings: 0