Package: siggenes Version: 1.80.0 Command: /home/biocbuild/bbs-3.20-bioc/R/bin/R CMD INSTALL siggenes StartedAt: 2025-02-03 15:55:05 -0500 (Mon, 03 Feb 2025) EndedAt: 2025-02-03 15:55:17 -0500 (Mon, 03 Feb 2025) EllapsedTime: 11.6 seconds RetCode: 0 Status: OK