Package: siggenes Version: 1.80.0 Command: /home/biocbuild/R/R/bin/R CMD check --install=check:siggenes.install-out.txt --library=/home/biocbuild/R/R/site-library --no-vignettes --timings siggenes_1.80.0.tar.gz StartedAt: 2025-02-04 11:06:07 -0000 (Tue, 04 Feb 2025) EndedAt: 2025-02-04 11:07:21 -0000 (Tue, 04 Feb 2025) EllapsedTime: 74.1 seconds RetCode: 0 Status: OK CheckDir: siggenes.Rcheck Warnings: 0