Package: sights Version: 1.32.0 Command: /Library/Frameworks/R.framework/Resources/bin/R CMD INSTALL sights StartedAt: 2025-02-03 15:30:37 -0500 (Mon, 03 Feb 2025) EndedAt: 2025-02-03 15:30:59 -0500 (Mon, 03 Feb 2025) EllapsedTime: 21.6 seconds RetCode: 0 Status: OK