Package: sights Version: 1.32.0 Command: /home/biocbuild/bbs-3.20-bioc/R/bin/R CMD INSTALL sights StartedAt: 2025-02-03 15:24:03 -0500 (Mon, 03 Feb 2025) EndedAt: 2025-02-03 15:24:09 -0500 (Mon, 03 Feb 2025) EllapsedTime: 5.9 seconds RetCode: 0 Status: OK