Package: sights Version: 1.32.0 Command: F:\biocbuild\bbs-3.20-bioc\R\bin\R.exe CMD INSTALL sights StartedAt: 2025-02-03 15:46:34 -0500 (Mon, 03 Feb 2025) EndedAt: 2025-02-03 15:46:57 -0500 (Mon, 03 Feb 2025) EllapsedTime: 23.3 seconds RetCode: 0 Status: OK