Package: sights Version: 1.32.0 Command: /home/biocbuild/R/R/bin/R CMD build --keep-empty-dirs --no-resave-data sights StartedAt: 2025-02-04 03:00:32 -0000 (Tue, 04 Feb 2025) EndedAt: 2025-02-04 03:01:42 -0000 (Tue, 04 Feb 2025) EllapsedTime: 70.1 seconds RetCode: 0 Status: OK PackageFile: sights_1.32.0.tar.gz PackageFileSize: 3.909 MiB