Package: signatureSearch Version: 1.20.0 Command: /Library/Frameworks/R.framework/Resources/bin/R CMD INSTALL signatureSearch StartedAt: 2025-02-03 17:13:20 -0500 (Mon, 03 Feb 2025) EndedAt: 2025-02-03 17:15:42 -0500 (Mon, 03 Feb 2025) EllapsedTime: 141.7 seconds RetCode: 0 Status: OK