Package: signatureSearch Version: 1.20.0 Command: /Library/Frameworks/R.framework/Resources/bin/R CMD check --install=check:signatureSearch.install-out.txt --library=/Library/Frameworks/R.framework/Resources/library --no-vignettes --timings signatureSearch_1.20.0.tar.gz StartedAt: 2025-02-04 10:11:11 -0500 (Tue, 04 Feb 2025) EndedAt: 2025-02-04 10:26:29 -0500 (Tue, 04 Feb 2025) EllapsedTime: 918.2 seconds RetCode: 0 Status: OK CheckDir: signatureSearch.Rcheck Warnings: 0