Package: signatureSearch Version: 1.20.0 Command: /home/biocbuild/bbs-3.20-bioc/R/bin/R CMD build --keep-empty-dirs --no-resave-data --md5 signatureSearch StartedAt: 2025-02-03 19:20:17 -0500 (Mon, 03 Feb 2025) EndedAt: 2025-02-03 19:27:44 -0500 (Mon, 03 Feb 2025) EllapsedTime: 447.5 seconds RetCode: 0 Status: OK PackageFile: signatureSearch_1.20.0.tar.gz PackageFileSize: 5.226 MiB