Package: signatureSearch Version: 1.20.0 Command: /home/biocbuild/bbs-3.20-bioc/R/bin/R CMD check --install=check:signatureSearch.install-out.txt --library=/home/biocbuild/bbs-3.20-bioc/R/site-library --timings signatureSearch_1.20.0.tar.gz StartedAt: 2025-02-04 02:30:34 -0500 (Tue, 04 Feb 2025) EndedAt: 2025-02-04 02:43:58 -0500 (Tue, 04 Feb 2025) EllapsedTime: 803.8 seconds RetCode: 0 Status: OK CheckDir: signatureSearch.Rcheck Warnings: 0