Package: signatureSearch Version: 1.20.0 Command: /home/biocbuild/bbs-3.20-bioc/R/bin/R CMD INSTALL signatureSearch StartedAt: 2025-02-03 15:52:38 -0500 (Mon, 03 Feb 2025) EndedAt: 2025-02-03 15:54:32 -0500 (Mon, 03 Feb 2025) EllapsedTime: 114.2 seconds RetCode: 0 Status: OK