Package: signatureSearch Version: 1.20.0 Command: rm -rf signatureSearch.buildbin-libdir && mkdir signatureSearch.buildbin-libdir && F:\biocbuild\bbs-3.20-bioc\R\bin\R.exe CMD INSTALL --build --library=signatureSearch.buildbin-libdir signatureSearch_1.20.0.tar.gz StartedAt: 2025-02-04 09:31:51 -0500 (Tue, 04 Feb 2025) EndedAt: 2025-02-04 09:37:53 -0500 (Tue, 04 Feb 2025) EllapsedTime: 362.2 seconds RetCode: 0 Status: OK PackageFile: signatureSearch_1.20.0.zip PackageFileSize: 85.13 MiB