Package: signatureSearch Version: 1.20.0 Command: chmod a+r signatureSearch -R && F:\biocbuild\bbs-3.20-bioc\R\bin\R.exe CMD build --keep-empty-dirs --no-resave-data signatureSearch StartedAt: 2025-02-03 22:09:45 -0500 (Mon, 03 Feb 2025) EndedAt: 2025-02-03 22:21:52 -0500 (Mon, 03 Feb 2025) EllapsedTime: 727.6 seconds RetCode: 0 Status: OK PackageFile: signatureSearch_1.20.0.tar.gz PackageFileSize: 4.926 MiB