Package: signatureSearch Version: 1.20.0 Command: /home/biocbuild/R/R/bin/R CMD build --keep-empty-dirs --no-resave-data signatureSearch StartedAt: 2025-02-04 03:00:50 -0000 (Tue, 04 Feb 2025) EndedAt: 2025-02-04 03:13:09 -0000 (Tue, 04 Feb 2025) EllapsedTime: 739.2 seconds RetCode: 0 Status: OK PackageFile: signatureSearch_1.20.0.tar.gz PackageFileSize: 5.122 MiB