Package: signifinder Version: 1.8.0 Command: /home/biocbuild/bbs-3.20-bioc/R/bin/R CMD check --install=check:signifinder.install-out.txt --library=/home/biocbuild/bbs-3.20-bioc/R/site-library --timings signifinder_1.8.0.tar.gz StartedAt: 2025-02-04 02:31:05 -0500 (Tue, 04 Feb 2025) EndedAt: 2025-02-04 02:43:19 -0500 (Tue, 04 Feb 2025) EllapsedTime: 733.7 seconds RetCode: 1 Status: ERROR CheckDir: signifinder.Rcheck Warnings: NA